BEGIN:VCALENDAR
VERSION:2.0
PRODID:-//Contratero//ES
CALSCALE:GREGORIAN
METHOD:PUBLISH
BEGIN:VEVENT
UID:SSCC PA 230/25@contratero.es
DTSTAMP:20260420T070909Z
DTSTART:20251027T235959
DTEND:20251028T005959
SUMMARY:Cierre: Servicio de operatividad y desarrollo de un sistem
DESCRIPTION:Servicio de operatividad y desarrollo de un sistema de información de datos genómicos para la integración de la información genómica en el Sistema Nacional de Salud (SIGENES) para el Servicio de Salud...\\n\\nOrganismo: Servicio de Salud de las Illes Balears\\n\\nVer en Contratero: https://contratero.es/contracts/SSCC PA 230/25
URL:https://contratero.es/contracts/SSCC PA 230/25
STATUS:CONFIRMED
BEGIN:VALARM
TRIGGER:-P1D
ACTION:DISPLAY
DESCRIPTION:Recordatorio: Servicio de operatividad y des
END:VALARM
END:VEVENT
END:VCALENDAR